BEGIN:VCALENDAR
VERSION:2.0
PRODID:-//ChamberMaster//Event Calendar 2.0//EN
METHOD:PUBLISH
X-PUBLISHED-TTL:P3D
REFRESH-INTERVAL:P3D
CALSCALE:GREGORIAN
BEGIN:VEVENT
DTSTART:20260519T163000Z
DTEND:20260519T173000Z
X-MICROSOFT-CDO-ALLDAYEVENT:FALSE
SUMMARY:Women's Networking Lunch - Johnny's Tavern
DESCRIPTION:Join us for our monthly Women's Networking Lunch\, held on the 3rd Tuesday of every month.. Each month we gather at a different location\, giving you a chance to connect\, support local businesses\, and build meaningful relationships with other women in our community.\n\nWhether you're a business owner\, professional\, or simply looking to expand your circle\, this is a welcoming space to show up\, be yourself\, and grow together.\n\nCome hungry for great food and even better conversation. We'd love to see you there!
X-ALT-DESC;FMTTYPE=text/html:<p data-end="131" data-start="60" style="margin: 0px 0px 1rem\; line-height: 27px\; overflow-wrap: break-word\; box-sizing: border-box\; color: rgb(105\, 105\, 105)\; font-family: Marmelad\, Arial\, Helvetica\, sans-serif\; font-size: 15px\;">Join us for our monthly Women&#39\;s Networking Lunch\,&nbsp\;held on the 3rd Tuesday of every month.. Each month we gather at a different location\, giving you a chance to connect\, support local businesses\, and build meaningful relationships with other women in our community.</p>\n\n<p data-end="573" data-start="416" style="margin: 0px 0px 1rem\; line-height: 27px\; overflow-wrap: break-word\; box-sizing: border-box\; color: rgb(105\, 105\, 105)\; font-family: Marmelad\, Arial\, Helvetica\, sans-serif\; font-size: 15px\;">Whether you&rsquo\;re a business owner\, professional\, or simply looking to expand your circle\, this is a welcoming space to show up\, be yourself\, and grow together.</p>\n\n<p data-end="732" data-is-last-node="" data-is-only-node="" data-start="648" style="margin: 0px 0px 1rem\; line-height: 27px\; overflow-wrap: break-word\; box-sizing: border-box\; color: rgb(105\, 105\, 105)\; font-family: Marmelad\, Arial\, Helvetica\, sans-serif\; font-size: 15px\;">Come hungry for great food and even better conversation. We&rsquo\;d love to see you there!</p>\n
LOCATION:Johnny's Tavern 1175 South MO-7 Blue Springs\, MO 64014
UID:e.581.25319
SEQUENCE:3
DTSTAMP:20260420T112424Z
URL:https://discover.bluespringschamber.com/events/details/women-s-networking-lunch-johnny-s-tavern-25319
END:VEVENT

END:VCALENDAR
