BEGIN:VCALENDAR
VERSION:2.0
PRODID:-//ChamberMaster//Event Calendar 2.0//EN
METHOD:PUBLISH
X-PUBLISHED-TTL:P3D
REFRESH-INTERVAL:P3D
CALSCALE:GREGORIAN
BEGIN:VEVENT
DTSTART:20260407T190000Z
DTEND:20260407T200000Z
X-MICROSOFT-CDO-ALLDAYEVENT:FALSE
SUMMARY:Ribbon Cutting - Honest Maids
DESCRIPTION:Join us for a ribbon cutting celebrating Honest Maids and their new office space on Main Street! Stop by to learn more about their services\, connect with fellow Chamber members\, and help us welcome them to their new location.
X-ALT-DESC;FMTTYPE=text/html:Join us for a ribbon cutting celebrating Honest Maids&nbsp\;and their new office space on Main Street! Stop by to learn more about their services\, connect with fellow Chamber members\, and help us welcome them to their new location.<scribe-shadow data-crx="okfkdaglfjjjfefdcppliegebpoegaii" id="crxjs-ext" style="position: fixed\; width: 0px\; height: 0px\; top: 0px\; left: 0px\; z-index: 2147483647\; overflow: visible\; visibility: visible\;"></scribe-shadow>
LOCATION:1124 W. Main Street\, Suite 202 Blue Springs\, MO 64015
UID:e.581.25317
SEQUENCE:3
DTSTAMP:20260420T125958Z
URL:https://discover.bluespringschamber.com/events/details/ribbon-cutting-honest-maids-25317
END:VEVENT

END:VCALENDAR
