BEGIN:VCALENDAR
VERSION:2.0
PRODID:-//ChamberMaster//Event Calendar 2.0//EN
METHOD:PUBLISH
X-PUBLISHED-TTL:P3D
REFRESH-INTERVAL:P3D
CALSCALE:GREGORIAN
BEGIN:VEVENT
DTSTART:20260630T140000Z
DTEND:20260630T200000Z
X-MICROSOFT-CDO-ALLDAYEVENT:FALSE
SUMMARY:KC Metro Reboot Entrepreneur Training Program
DESCRIPTION:Have you ever dreamed of owning and operating your own business? If so\, this is the place for you. The U.S. Small Business Administration and the Veterans Business Outreach Center (VBOC) are taking this course to Blue Springs\, MO in the KC Metro area\, hosted by the Brown Team @ Sage Door Reality\, a locally owned Veteran Business. \n\nThis event is open to anyone who is interested in starting or growing a small business.\n\nTopics will include:   What is Entrepreneurship?   Idea vs. Business Opportunity?   Doing Your Market Research   Customers and Industry   The Economics of Small Business   Selecting the Correct Legal Structure   Financing Your Venture   Business Planning   SBA Resources for You\n\nThis is your chance to explore what it takes to be an entrepreneur and stand with the growing number of small business owners! Join us and learn how to put your small business ownership dreams into action!
X-ALT-DESC;FMTTYPE=text/html:<p>Have you ever dreamed of owning and operating your own business? If so\, this is the place for you. The U.S. Small Business Administration and the Veterans Business Outreach Center (VBOC) are taking this course to Blue Springs\, MO in the KC Metro area\, hosted by the Brown Team @ Sage Door Reality\, a locally owned Veteran Business.&nbsp\;</p>\n\n<p>This event is open to anyone who is interested in starting or growing a small business.</p>\n\n<p>Topics will include: &middot\; What is Entrepreneurship? &middot\; Idea vs. Business Opportunity? &middot\; Doing Your Market Research &ndash\; Customers and Industry &middot\; The Economics of Small Business &middot\; Selecting the Correct Legal Structure &middot\; Financing Your Venture &middot\; Business Planning &middot\; SBA Resources for You</p>\n\n<p>This is your chance to explore what it takes to be an entrepreneur and stand with the growing number of small business owners! Join us and learn how to put your small business ownership dreams into action!</p>\n<br />\n&nbsp\;
LOCATION:The Brown Team at Sage Door Reality 1932 Copper Oaks Cir Blue Springs\, MO
UID:e.581.25639
SEQUENCE:3
DTSTAMP:20260420T093835Z
URL:https://discover.bluespringschamber.com/events/details/kc-metro-reboot-entrepreneur-training-program-25639
END:VEVENT

END:VCALENDAR
