BEGIN:VCALENDAR
VERSION:2.0
PRODID:-//ChamberMaster//Event Calendar 2.0//EN
METHOD:PUBLISH
X-PUBLISHED-TTL:P3D
REFRESH-INTERVAL:P3D
CALSCALE:GREGORIAN
BEGIN:VEVENT
DTSTART;VALUE=DATE:20260403
DTEND;VALUE=DATE:20260404
TRANSP:TRANSPARENT
X-MICROSOFT-CDO-ALLDAYEVENT:TRUE
SUMMARY:Good Friday- Office Closed
DESCRIPTION:Chamber Office Closed
X-ALT-DESC;FMTTYPE=text/html:Chamber Office Closed<scribe-shadow data-crx="okfkdaglfjjjfefdcppliegebpoegaii" id="crxjs-ext" style="position: fixed\; width: 0px\; height: 0px\; top: 0px\; left: 0px\; z-index: 2147483647\; overflow: visible\; visibility: visible\;"></scribe-shadow>
LOCATION:
UID:e.581.25036
SEQUENCE:3
DTSTAMP:20260420T125609Z
URL:https://discover.bluespringschamber.com/events/details/good-friday-office-closed-25036
END:VEVENT

END:VCALENDAR
