BEGIN:VCALENDAR
VERSION:2.0
PRODID:-//ChamberMaster//Event Calendar 2.0//EN
METHOD:PUBLISH
X-PUBLISHED-TTL:P3D
REFRESH-INTERVAL:P3D
CALSCALE:GREGORIAN
BEGIN:VEVENT
DTSTART:20260516T233000Z
DTEND:20260517T004500Z
X-MICROSOFT-CDO-ALLDAYEVENT:FALSE
SUMMARY:Cleanse + Renew: Restorative Sound Bath Experience
DESCRIPTION:Cleanse + Renew: A Restorative Sound Bath Experience (75 min) -  Immerse yourself in soothing sound\, gentle energy work\, and aromatherapy to reset your body\, calm your mind\, and welcome the season of renewal. Everyone is welcome - all levels\, including beginners. \n\n\n\nStep into a deeply restorative experience designed to cleanse\, rebalance\, and renew your nervous system. As spring awakens the world around us\, this immersive sound bath offers a supportive space for release\, reflection\, and gentle reset. Led by yoga instructor\, violinist\, certified sound healer\, and Reiki Master Glenda Masters\, this session blends calming breathwork\, subtle aromatherapy\, and curated energy work to guide you into a state of deep relaxation.\n\n\n\nYou'll begin with grounding breathwork to soothe the body and quiet the mind\, followed by a meditative journey through the resonant tones of crystal singing bowls\, chimes\, gongs\, and other healing instruments. These vibrational frequencies are designed to help release tension\, restore energetic balance\, and invite clarity. Allow yourself to fully unwind as layers of stress melt away\, leaving you feeling refreshed\, grounded\, and reconnected to your natural rhythm. Emerge with a sense of calm\, openness\, and renewed possibility ready to step into the season ahead with ease and intention.\n\n\n\nWhat to Bring/Wear:  yoga mat\, water\, journal\, open-mind and heart\, blanket or any props for comfort (available @TW) - please wear comfortable and relaxed clothing. Hydration encouraged!\n\n\n\nPlease Note: If you have metal implants or medical devices (such as a pacemaker)\, please consult your healthcare provider before attending.
X-ALT-DESC;FMTTYPE=text/html:<span style="font-family:times new roman"><span style="font-size:14px"><strong>Cleanse + Renew: A Restorative Sound Bath Experience (75 min) -&nbsp\;&nbsp\;</strong><span style="color:rgb(42\, 42\, 42)">Immerse yourself in soothing sound\, gentle energy work\, and aromatherapy to reset your body\, calm your mind\, and welcome the season of renewal.&nbsp\;</span><em>Everyone is welcome - all levels\, including beginners.&nbsp\;</em><br />\n<br />\n<span style="color:rgb(42\, 42\, 42)">Step into a deeply restorative experience designed to cleanse\, rebalance\, and renew your nervous system. As spring awakens the world around us\, this immersive sound bath offers a supportive space for release\, reflection\, and gentle reset.&nbsp\;Led by yoga instructor\, violinist\, certified sound healer\, and Reiki Master Glenda Masters\, this session blends calming breathwork\, subtle aromatherapy\, and curated energy work to guide you into a state of deep relaxation.</span><br />\n<br />\n<span style="color:rgb(42\, 42\, 42)">You&rsquo\;ll begin with grounding breathwork to soothe the body and quiet the mind\, followed by a meditative journey through the resonant tones of crystal singing bowls\, chimes\, gongs\, and other healing instruments. These vibrational frequencies are designed to help release tension\, restore energetic balance\, and invite clarity.&nbsp\;Allow yourself to fully unwind as layers of stress melt away\, leaving you feeling refreshed\, grounded\, and reconnected to your natural rhythm. Emerge with a sense of calm\, openness\, and renewed possibility&mdash\;ready to step into the season ahead with ease and intention.</span><br />\n<br />\n<span style="color:rgb(42\, 42\, 42)"><strong>What to Bring/Wear:</strong>&nbsp\;&nbsp\;yoga mat\, water\, journal\, open-mind and heart\, blanket or any props for comfort (available @TW) - please wear comfortable and relaxed clothing. Hydration encouraged!<br />\n<br />\n<em><strong>Please Note:</strong>&nbsp\;</em></span><em>If you have metal implants or medical devices (such as a pacemaker)\, please consult your healthcare provider before attending.&nbsp\;</em></span></span>
LOCATION:Trinity Wellness Yoga + Fitness Studio 1500 NW Mock Ave Suite B\, Blue Springs\, MO 64015
UID:e.581.25638
SEQUENCE:3
DTSTAMP:20260420T110115Z
URL:https://discover.bluespringschamber.com/events/details/cleanse-renew-restorative-sound-bath-experience-25638
END:VEVENT

END:VCALENDAR
