BEGIN:VCALENDAR
VERSION:2.0
PRODID:-//ChamberMaster//Event Calendar 2.0//EN
METHOD:PUBLISH
X-PUBLISHED-TTL:P3D
REFRESH-INTERVAL:P3D
CALSCALE:GREGORIAN
BEGIN:VEVENT
DTSTART:20260410T123000Z
DTEND:20260410T133000Z
X-MICROSOFT-CDO-ALLDAYEVENT:FALSE
SUMMARY:Cancelled - Legislative Affairs Task Force Meeting
DESCRIPTION:No meeting this month.  Attend the Legislative Breakfast that is scheduled during this same time.\n\n\n\nThe Purpose of the Legislative Task Force is to:\n\n\n	Study local\, state and federal legislative issues of interest to businesses\n	Encourage information sharing about business and community issues among the membership.\n	Stay alert to issues that will affect our members and the business community and make recommendations to the Board of Directors regarding such issues.
X-ALT-DESC;FMTTYPE=text/html:<div style="color: rgb(51\, 51\, 51)\; font-family: sans-serif\, Arial\, Verdana\, &quot\;Trebuchet MS&quot\;\;"><span style="font-size: 16px\;">No meeting this month.&nbsp\; Attend the Legislative Breakfast that is scheduled during this same time.</span><br />\n<br />\n<span style="font-size: 16px\;"><span style="font-family:arial\;">The Purpose of the Legislative Task Force is to:</span></span></div>\n\n<ul background-color:="" font-size:="" style="padding: 0px 40px\; color: rgb(51\, 51\, 51)\; font-family: sans-serif\, Arial\, Verdana\, &quot\;Trebuchet MS&quot\;\; font-size: 13px\;" trebuchet="">\n	<li style="margin-bottom: 0in\; line-height: normal\;"><span style="font-size:16px\;"><span style="font-family:arial\;">Study local\, state and federal legislative issues of interest to businesses</span></span></li>\n	<li style="margin-bottom: 0in\; line-height: normal\;"><span style="font-size:16px\;"><span style="font-family:arial\;">Encourage information sharing about business and community issues among the membership.</span></span></li>\n	<li style="margin-bottom: 0in\; line-height: normal\;"><span style="font-size:16px\;"><span style="font-family:arial\;">Stay alert to issues that will affect our members and the business community and make recommendations to the Board of Directors regarding such issues.</span></span></li>\n</ul>\n<scribe-shadow data-crx="okfkdaglfjjjfefdcppliegebpoegaii" id="crxjs-ext" style="position: fixed\; width: 0px\; height: 0px\; top: 0px\; left: 0px\; z-index: 2147483647\; overflow: visible\; visibility: visible\;"></scribe-shadow>
LOCATION:Sandy's Restaurant 1255 SW US\, MO -7 Highway Blue Springs\, MO
UID:e.581.25015
SEQUENCE:3
DTSTAMP:20260420T123730Z
URL:https://discover.bluespringschamber.com/events/details/cancelled-legislative-affairs-task-force-meeting-04-10-2026-25015
END:VEVENT

END:VCALENDAR
