BEGIN:VCALENDAR
VERSION:2.0
PRODID:-//ChamberMaster//Event Calendar 2.0//EN
METHOD:PUBLISH
X-PUBLISHED-TTL:P3D
REFRESH-INTERVAL:P3D
CALSCALE:GREGORIAN
BEGIN:VEVENT
DTSTART:20260501T120000Z
DTEND:20260501T210000Z
X-MICROSOFT-CDO-ALLDAYEVENT:FALSE
SUMMARY:41st Annual Chamber Golf Tournament
DESCRIPTION:LIMITED SPOTS\n\nCALL THE CHAMBER TO REGISTER! 816-229-8558\n41st Annual Blue Springs Chamber Golf Tournament presented by St. Mary's Medical Center.\n\n\n\nEntry fees include breakfast\, lunch\, beverages\, golfer's gift\, 18 holes of golf\, golf cart\, prizes and team awards. \n\n\n\nTournament Highlights:\n\nPrizes for Two Flights\n\nPutting Contest\n\nGolfer's Gift  \n\nBall Drop
X-ALT-DESC;FMTTYPE=text/html:<h4><strong>LIMITED SPOTS<br />\nCALL THE CHAMBER TO REGISTER! 816-229-8558</strong></h4>\n<span style="font-size: 16px\;">41st Annual Blue Springs Chamber Golf Tournament presented by St. Mary&#39\;s Medical Center.</span><br />\n<br />\n<span style="font-size: 14px\;"><span style="font-size: 16px\;">Entry fees include breakfast\, lunch\, beverages\, golfer&#39\;s gift\, 18 holes of golf\, golf cart\, prizes and team awards.&nbsp\;</span><br />\n<br />\n<strong>Tournament Highlights:</strong><br />\nPrizes for Two Flights<br />\nPutting Contest<br />\nGolfer&#39\;s Gift&nbsp\;&nbsp\;<br />\nBall Drop</span>
LOCATION:Blue Springs Golf Club 1600 NW Circle Dr\, Blue Springs\, MO 64014
UID:e.581.24763
SEQUENCE:3
DTSTAMP:20260420T112327Z
URL:https://discover.bluespringschamber.com/events/details/41st-annual-chamber-golf-tournament-24763
END:VEVENT

END:VCALENDAR
